BEGIN:VCALENDAR
VERSION:2.0
PRODID:PCMI UCSF
X-WR-CALNAME:PCMI Events Calender
X-PUBLISHED-TTL:P1W
BEGIN:VEVENT
UID:f58e642005f54a
DTSTART;VALUE=DATE:20200813
SEQUENCE:0
TRANSP:OPAQUE
DTEND;VALUE=DATE:20200813
SUMMARY:PCMI All-Hands Meeting
CLASS:PUBLIC
X-MICROSOFT-CDO-ALLDAYEVENT:TRUE
DTSTAMP:20260423T000553Z
END:VEVENT
BEGIN:VEVENT
UID:25a225e9fef346
DTSTART;VALUE=DATE:20200910
SEQUENCE:0
TRANSP:OPAQUE
DTEND;VALUE=DATE:20200910
SUMMARY:PCMI All Hands Research Meeting
CLASS:PUBLIC
X-MICROSOFT-CDO-ALLDAYEVENT:TRUE
DTSTAMP:20260423T000553Z
END:VEVENT
BEGIN:VEVENT
UID:0306d73d1f1849
DTSTART;VALUE=DATE:20191023
SEQUENCE:0
TRANSP:OPAQUE
DTEND;VALUE=DATE:20191024
SUMMARY:NCRCRG/CN 2019 Consortium Meeting
CLASS:PUBLIC
X-MICROSOFT-CDO-ALLDAYEVENT:TRUE
DTSTAMP:20260423T000553Z
END:VEVENT
BEGIN:VEVENT
UID:088e546b571743
DTSTART;VALUE=DATE:20191113
SEQUENCE:0
TRANSP:OPAQUE
DTEND;VALUE=DATE:20191115
SUMMARY:PCMI 2019 Psychiatric Cell Map Symposium
CLASS:PUBLIC
X-MICROSOFT-CDO-ALLDAYEVENT:TRUE
DTSTAMP:20260423T000553Z
END:VEVENT
BEGIN:VEVENT
UID:6dc8326a73614a
DTSTART;VALUE=DATE:20201119
SEQUENCE:0
TRANSP:OPAQUE
DTEND;VALUE=DATE:20201120
SUMMARY:PCMI and Convergent Neuroscience Meeting
CLASS:PUBLIC
X-MICROSOFT-CDO-ALLDAYEVENT:TRUE
DTSTAMP:20260423T000553Z
END:VEVENT
BEGIN:VEVENT
UID:16cdbf9b45224e
DTSTART;VALUE=DATE:20191121
SEQUENCE:0
TRANSP:OPAQUE
DTEND;VALUE=DATE:20191121
SUMMARY:Harnessing iPSCs and ‘omics to identify molecular convergence in 
 neurodegeneration
CLASS:PUBLIC
X-MICROSOFT-CDO-ALLDAYEVENT:TRUE
DTSTAMP:20260423T000553Z
END:VEVENT
END:VCALENDAR